BEGIN:VCALENDAR
VERSION:2.0
PRODID:-//Lampefeber - ECPv6.15.17.1//NONSGML v1.0//EN
CALSCALE:GREGORIAN
METHOD:PUBLISH
X-ORIGINAL-URL:https://lampefeberproduksjoner.no
X-WR-CALDESC:Arrangement for Lampefeber
REFRESH-INTERVAL;VALUE=DURATION:PT1H
X-Robots-Tag:noindex
X-PUBLISHED-TTL:PT1H
BEGIN:VTIMEZONE
TZID:Europe/Oslo
BEGIN:DAYLIGHT
TZOFFSETFROM:+0100
TZOFFSETTO:+0200
TZNAME:CEST
DTSTART:20240331T010000
END:DAYLIGHT
BEGIN:STANDARD
TZOFFSETFROM:+0200
TZOFFSETTO:+0100
TZNAME:CET
DTSTART:20241027T010000
END:STANDARD
BEGIN:DAYLIGHT
TZOFFSETFROM:+0100
TZOFFSETTO:+0200
TZNAME:CEST
DTSTART:20250330T010000
END:DAYLIGHT
BEGIN:STANDARD
TZOFFSETFROM:+0200
TZOFFSETTO:+0100
TZNAME:CET
DTSTART:20251026T010000
END:STANDARD
BEGIN:DAYLIGHT
TZOFFSETFROM:+0100
TZOFFSETTO:+0200
TZNAME:CEST
DTSTART:20260329T010000
END:DAYLIGHT
BEGIN:STANDARD
TZOFFSETFROM:+0200
TZOFFSETTO:+0100
TZNAME:CET
DTSTART:20261025T010000
END:STANDARD
END:VTIMEZONE
BEGIN:VEVENT
DTSTART;TZID=Europe/Oslo:20251216T190000
DTEND;TZID=Europe/Oslo:20251216T200000
DTSTAMP:20260421T112021
CREATED:20251014T102955Z
LAST-MODIFIED:20251015T114302Z
UID:10000106-1765911600-1765915200@lampefeberproduksjoner.no
SUMMARY:Christina Bergli - A soulful Christmas
DESCRIPTION:Velkommen til en stemningsfull julekonsert med Christina Bergli. Berglis repertoar spenner fra de store\, pompøse låtene som gir gåsehud og frysninger\, og helt ned til de sarteste og deiligste sangene der julstemningen kryper inn i hjerte og sinn.\nMed seg har hun noen fantastiske musikere: Atle Hundsnes (kapellmester og tangenter)\, Aril Schøld (gitar)\, Bjarte Mo (fiolin)\, Stian Schøld Hansen (bass) og Sondre Rasmussen (trommer).\nChristina Bergli (1981) besitter en av Rogalands beste stemmer. Hun har gjort seg bemerket i gospelmiljøet i Stavanger som solist i både Stavanger Gospel Choir og Stavanger Gospel Company gjennom flere år. Hun har en allsidig stemme\, men er helt klart på hjemmebane når hun får synge Soul/Gospel/Jazz. Hun har opptrådt på flere scener rundt om i landet\,både små og store scener\, og ved forskjellige type eventer som feks:\n•»Det store Korslaget» på Tv2 med Sigvart Dagsland\n•Norway Chess\n•Solist på Filmkonserten til Stavanger Symfoni Orkester (SSO)\n•Har medvirket på flere cd utgivelser som solist og korist\n•Flere egne utgivelser de siste årene\n•Solist i «Lykkeland» serien.2018\n•The Voice-Team Yosef 2022\n•Whitney Houston&Aretha Franklin Tribute 2023
URL:https://lampefeberproduksjoner.no/produksjon/christina-bergli-a-soulful-christmas/
LOCATION:Randaberg kirke\, Randaberg kirke\, Randabergveien 365\, 4070 Randaberg\, Randaberg\, 4070\, Norway
ATTACH;FMTTYPE=image/jpeg:https://lampefeberproduksjoner.no/wp-content/uploads/2025/10/1600x900_julekonsert-scaled.jpg
END:VEVENT
BEGIN:VEVENT
DTSTART;TZID=Europe/Oslo:20251101T193000
DTEND;TZID=Europe/Oslo:20251101T223000
DTSTAMP:20260421T112021
CREATED:20251022T120105Z
LAST-MODIFIED:20251022T120105Z
UID:10000158-1762025400-1762036200@lampefeberproduksjoner.no
SUMMARY:TORE KÅSTAD - Alltid på etterskudd
DESCRIPTION:
URL:https://lampefeberproduksjoner.no/produksjon/tore-kastad-alltid-pa-etterskudd/
LOCATION:Jærhallen\, Trallfaveien 3\, Bryne\, Bryne\, 4344\, Norway
ATTACH;FMTTYPE=image/jpeg:https://lampefeberproduksjoner.no/wp-content/uploads/2025/10/1600x900_ToreKastad-scaled.jpg
END:VEVENT
BEGIN:VEVENT
DTSTART;TZID=Europe/Oslo:20251019T190000
DTEND;TZID=Europe/Oslo:20251019T200000
DTSTAMP:20260421T112021
CREATED:20250616T103842Z
LAST-MODIFIED:20251015T115540Z
UID:10000067-1760900400-1760904000@lampefeberproduksjoner.no
SUMMARY:3 Prester - La oss alle le
DESCRIPTION:  \nLa oss alle LE: Et himmelsk humorshow \n\n\nHva skjer når 3 fullverdige prester lager et fullverdig humorshow? Vil de utfordre kirken? Vil de le av seg selv? Vil de overraske? \nJa til alt! \nVi garanterer latterkuler i salen når Torstein\, Øyvind og Lina inntar scenen med sitt første humorshow: 3 Prester – La oss alle LE – Et himmelsk humorshow. \nHer blir det stor takhøyde – uhøytidelig harselas – standup og masse galskap satt i system. Med seg har de fått Lampefeber Produksjoner som produsent. \n  \n\n 
URL:https://lampefeberproduksjoner.no/produksjon/3-prester-la-oss-alle-le-2/
LOCATION:Kuppelhallen\, Stavanger\, Sandvigå 1\, Stavanger\, Stavanger\, 4007\, Norway
ATTACH;FMTTYPE=image/jpeg:https://lampefeberproduksjoner.no/wp-content/uploads/2023/06/1080x1350_TrePrester-scaled.jpg
END:VEVENT
BEGIN:VEVENT
DTSTART;TZID=Europe/Oslo:20251018T190000
DTEND;TZID=Europe/Oslo:20251018T200000
DTSTAMP:20260421T112021
CREATED:20250616T103556Z
LAST-MODIFIED:20251015T114432Z
UID:10000066-1760814000-1760817600@lampefeberproduksjoner.no
SUMMARY:3 Prester - La oss alle le
DESCRIPTION:  \nLa oss alle LE: Et himmelsk humorshow \n\n\nHva skjer når 3 fullverdige prester lager et fullverdig humorshow? Vil de utfordre kirken? Vil de le av seg selv? Vil de overraske? \nJa til alt! \nVi garanterer latterkuler i salen når Torstein\, Øyvind og Lina inntar scenen med sitt første humorshow: 3 Prester – La oss alle LE – Et himmelsk humorshow. \nHer blir det stor takhøyde – uhøytidelig harselas – standup og masse galskap satt i system. Med seg har de fått Lampefeber Produksjoner som produsent. \n  \n\n 
URL:https://lampefeberproduksjoner.no/produksjon/3-prester-la-oss-alle-le/
LOCATION:Lyngdal Kulturhus\, Torggata 4\, Lyngdal\, Lyngdal\, 4580\, Norway
ATTACH;FMTTYPE=image/jpeg:https://lampefeberproduksjoner.no/wp-content/uploads/2023/06/1080x1350_TrePrester-scaled.jpg
END:VEVENT
BEGIN:VEVENT
DTSTART;TZID=Europe/Oslo:20251017T190000
DTEND;TZID=Europe/Oslo:20251017T201500
DTSTAMP:20260421T112021
CREATED:20251014T105021Z
LAST-MODIFIED:20251015T113207Z
UID:10000108-1760727600-1760732100@lampefeberproduksjoner.no
SUMMARY:3 Prester - La oss alle le
DESCRIPTION:La oss alle LE: Et himmelsk humorshow \n\n\nHva skjer når 3 fullverdige prester lager et fullverdig humorshow? Vil de utfordre kirken? Vil de le av seg selv? Vil de overraske? \nJa til alt! \nVi garanterer latterkuler i salen når Torstein\, Øyvind og Lina inntar scenen med sitt første humorshow: 3 Prester – La oss alle LE – Et himmelsk humorshow. \nHer blir det stor takhøyde – uhøytidelig harselas – standup og masse galskap satt i system. Med seg har de fått Lampefeber Produksjoner som produsent. \n  \n\n 
URL:https://lampefeberproduksjoner.no/produksjon/3-prester-la-oss-alle-le-3/
LOCATION:Grimstad Kulturhus\, Storgata 33\, Grimstad\, Grimstad\, 4876\, Norway
ATTACH;FMTTYPE=image/jpeg:https://lampefeberproduksjoner.no/wp-content/uploads/2023/06/1080x1350_TrePrester-scaled.jpg
END:VEVENT
BEGIN:VEVENT
DTSTART;TZID=Europe/Oslo:20250227T190000
DTEND;TZID=Europe/Oslo:20250227T210000
DTSTAMP:20260421T112021
CREATED:20250313T102539Z
LAST-MODIFIED:20250313T112228Z
UID:10000001-1740682800-1740690000@lampefeberproduksjoner.no
SUMMARY:KORTREIST KOMIKER
DESCRIPTION:Jærens egen store komiker og sønn kommer tilbake høsten 2023. Tore Kåstads «Kortreist komiker» hadde hele 10 utsolgte forestillinger\, og besøksrekord i Storstova høsten 2022\, og etter massivt trøkk fra de som ikke fikk det med seg da\, så blir det en siste sjans denne dagen. \n«Kortreist komiker» er navnet på showet og vil by på latterkuler og galskap i Jærens egen storstue\, STORSTOVA.
URL:https://lampefeberproduksjoner.no/produksjon/kortreist-komiker/2025-02-27/2/
LOCATION:Storstova\, Arne Garborgs veg 26\, Bryne\, 4344
ATTACH;FMTTYPE=image/jpeg:https://lampefeberproduksjoner.no/wp-content/uploads/2023/06/Tore-Karstad.jpg
END:VEVENT
END:VCALENDAR