BEGIN:VCALENDAR
VERSION:2.0
PRODID:-//Lampefeber - ECPv6.15.17.1//NONSGML v1.0//EN
CALSCALE:GREGORIAN
METHOD:PUBLISH
X-ORIGINAL-URL:https://lampefeberproduksjoner.no
X-WR-CALDESC:Arrangement for Lampefeber
REFRESH-INTERVAL;VALUE=DURATION:PT1H
X-Robots-Tag:noindex
X-PUBLISHED-TTL:PT1H
BEGIN:VTIMEZONE
TZID:Europe/Oslo
BEGIN:DAYLIGHT
TZOFFSETFROM:+0100
TZOFFSETTO:+0200
TZNAME:CEST
DTSTART:20250330T010000
END:DAYLIGHT
BEGIN:STANDARD
TZOFFSETFROM:+0200
TZOFFSETTO:+0100
TZNAME:CET
DTSTART:20251026T010000
END:STANDARD
BEGIN:DAYLIGHT
TZOFFSETFROM:+0100
TZOFFSETTO:+0200
TZNAME:CEST
DTSTART:20260329T010000
END:DAYLIGHT
BEGIN:STANDARD
TZOFFSETFROM:+0200
TZOFFSETTO:+0100
TZNAME:CET
DTSTART:20261025T010000
END:STANDARD
BEGIN:DAYLIGHT
TZOFFSETFROM:+0100
TZOFFSETTO:+0200
TZNAME:CEST
DTSTART:20270328T010000
END:DAYLIGHT
BEGIN:STANDARD
TZOFFSETFROM:+0200
TZOFFSETTO:+0100
TZNAME:CET
DTSTART:20271031T010000
END:STANDARD
END:VTIMEZONE
BEGIN:VEVENT
DTSTART;TZID=Europe/Oslo:20260124T210000
DTEND;TZID=Europe/Oslo:20260124T220000
DTSTAMP:20260419T195126
CREATED:20251117T140531Z
LAST-MODIFIED:20260121T094113Z
UID:10000176-1769288400-1769292000@lampefeberproduksjoner.no
SUMMARY:Roar Brekke - For å si det sånn
DESCRIPTION:  \nDet er snart 30 år siden Roar Brekke sto på scenen for aller første gang – i 1996. Det som den gang var ment som en engangsaffære\, har utviklet seg til en livslang karriere fylt med latter\, historier og unike øyeblikk. \nSiden debuten har Brekke levert over 2000 opptredener\, laget fire helaftens show\, og møtt titusenvis av publikummere som har fått oppleve hans særegne blanding av humor\, varme og underfundige betraktninger. Gjennom en lang karriere har han vært innom det meste av spillesteder på vestlandet. Puber\, grendahus\, ungdomslag\, kulturhus – eller plattformer – han har vært der. \nNå er han tilbake med en ny forestilling:\n“For å si det sånn” \nDette blir et nytt humorshow\, der han igjen viser bredden av humoren sin. Det blir dans\, parodier\, sketsjer og fysisk humor. Her skal han igjen få vist at standup kan være så mye mer enn en mann og en mikrofon. \n– “Jeg hadde aldri trodd at den første gangen jeg sto på scenen skulle føre til dette. Men én kveld ble til to\, og to ble til tusen. Det viktigste for meg har hele veien vært gleden og fellesskapet i møtet med publikum\,” sier Brekke.
URL:https://lampefeberproduksjoner.no/produksjon/roar-brekke-for-a-si-det-sann-3/2026-01-24/2/
LOCATION:Lille Ole Bull\, Øvre Ole Bulls plass 3\, Bergen\, Bergen\, 5012\, Norway
ATTACH;FMTTYPE=image/jpeg:https://lampefeberproduksjoner.no/wp-content/uploads/2025/11/for-aa-si-det-saann.jpg
END:VEVENT
END:VCALENDAR