BEGIN:VCALENDAR
VERSION:2.0
PRODID:-//Lampefeber - ECPv6.15.17.1//NONSGML v1.0//EN
CALSCALE:GREGORIAN
METHOD:PUBLISH
X-ORIGINAL-URL:https://lampefeberproduksjoner.no
X-WR-CALDESC:Arrangement for Lampefeber
REFRESH-INTERVAL;VALUE=DURATION:PT1H
X-Robots-Tag:noindex
X-PUBLISHED-TTL:PT1H
BEGIN:VTIMEZONE
TZID:Europe/Oslo
BEGIN:DAYLIGHT
TZOFFSETFROM:+0100
TZOFFSETTO:+0200
TZNAME:CEST
DTSTART:20250330T010000
END:DAYLIGHT
BEGIN:STANDARD
TZOFFSETFROM:+0200
TZOFFSETTO:+0100
TZNAME:CET
DTSTART:20251026T010000
END:STANDARD
BEGIN:DAYLIGHT
TZOFFSETFROM:+0100
TZOFFSETTO:+0200
TZNAME:CEST
DTSTART:20260329T010000
END:DAYLIGHT
BEGIN:STANDARD
TZOFFSETFROM:+0200
TZOFFSETTO:+0100
TZNAME:CET
DTSTART:20261025T010000
END:STANDARD
BEGIN:DAYLIGHT
TZOFFSETFROM:+0100
TZOFFSETTO:+0200
TZNAME:CEST
DTSTART:20270328T010000
END:DAYLIGHT
BEGIN:STANDARD
TZOFFSETFROM:+0200
TZOFFSETTO:+0100
TZNAME:CET
DTSTART:20271031T010000
END:STANDARD
END:VTIMEZONE
BEGIN:VEVENT
DTSTART;TZID=Europe/Oslo:20260529T190000
DTEND;TZID=Europe/Oslo:20260529T200000
DTSTAMP:20260423T174033
CREATED:20260422T122350Z
LAST-MODIFIED:20260422T122350Z
UID:10000247-1780081200-1780084800@lampefeberproduksjoner.no
SUMMARY:KNUT SKEIE SOLBERG - Tenk hvis
DESCRIPTION:TENK HVIS vi kunne blitt enda bedre til å le av oss selv? \nDet er mye rundt oss vi finner latterlig\, men det er lite vi ler av. Og mye av det vi egentlig går og gnager på passer mye bedre inn på Svåheie. Skal vi ikke bare gjøre alt vi kan for å skape enda flere fine dager – mens vi fortsatt har muligheten? \n\n\nGled deg til et annerledes show med humor\, herlige\, ærlige og passe smarte betraktninger fra en av landets ypperste formidlere. \n\n\nVel møtt alle mann alle!
URL:https://lampefeberproduksjoner.no/produksjon/knut-skeie-solberg-tenk-hvis-3-2/
LOCATION:Sunnfjordsalen\, Storehagen 2\, Førde\, Førde\, 6800\, Norway
ATTACH;FMTTYPE=image/jpeg:https://lampefeberproduksjoner.no/wp-content/uploads/2026/01/KNUT.jpg-HJEMMESIDE.jpg
END:VEVENT
END:VCALENDAR